Workbook

Sheet プログラム演目表
A1: 部 | B1: 演目番号 | C1: 枝番 | D1: レッスン曜日 | E1: レッスン開始時間 | F1: クラス名 | G1: 生徒名（漢字） | H1: 生徒名（カナ） | I1: 作品名 | J1: 使用CD・音源名 | K1: ディスク番号 | L1: トラック番号 | M1: 作業種別 | N1: 編集後ファイル名 | O1: 最終更新日時 | P1: 発表会名
A2: 1 | B2: 5 | D2: 火 | F2: {=IF(G2="","",_xlfn.XLOOKUP(G2,生徒一覧!A:A,生徒一覧!C:C,""))} -> B | G2: 山田花子 | H2: {=IF(G2="","",_xlfn.XLOOKUP(G2,生徒一覧!A:A,生徒一覧!B:B,""))} -> やまだはなこ | J2: 眠れる森の美女
A3: 2 | B3: 3 | D3: 水 | F3: {=IF(G3="","",_xlfn.XLOOKUP(G3,生徒一覧!A:A,生徒一覧!C:C,""))} -> B | G3: 山田花子 | H3: {=IF(G3="","",_xlfn.XLOOKUP(G3,生徒一覧!A:A,生徒一覧!B:B,""))} -> やまだはなこ | J3: 眠れる森の美女
A4: 2 | B4: 1111 | D4: 火 | F4: {=IF(G4="","",_xlfn.XLOOKUP(G4,生徒一覧!A:A,生徒一覧!C:C,""))} -> A | G4: 鈴木太郎 | H4: {=IF(G4="","",_xlfn.XLOOKUP(G4,生徒一覧!A:A,生徒一覧!B:B,""))} -> すずきたろう | J4: 白鳥の湖
A5: 3 | B5: 10 | D5: 月 | F5: {=IF(G5="","",_xlfn.XLOOKUP(G5,生徒一覧!A:A,生徒一覧!C:C,""))} -> C | G5: 木下久美 | H5: {=IF(G5="","",_xlfn.XLOOKUP(G5,生徒一覧!A:A,生徒一覧!B:B,""))} -> きのしたくみ | J5: 去年の発表会
A6: 5 | F6: {=IF(G6="","",_xlfn.XLOOKUP(G6,生徒一覧!A:A,生徒一覧!C:C,""))} -> C | G6: 木下久美 | H6: {=IF(G6="","",_xlfn.XLOOKUP(G6,生徒一覧!A:A,生徒一覧!B:B,""))} -> きのしたくみ | J6: 去年の発表会
F7: {=IF(G7="","",_xlfn.XLOOKUP(G7,生徒一覧!A:A,生徒一覧!C:C,""))} | H7: {=IF(G7="","",_xlfn.XLOOKUP(G7,生徒一覧!A:A,生徒一覧!B:B,""))}
F8: {=IF(G8="","",_xlfn.XLOOKUP(G8,生徒一覧!A:A,生徒一覧!C:C,""))} | H8: {=IF(G8="","",_xlfn.XLOOKUP(G8,生徒一覧!A:A,生徒一覧!B:B,""))}
F9: {=IF(G9="","",_xlfn.XLOOKUP(G9,生徒一覧!A:A,生徒一覧!C:C,""))} | H9: {=IF(G9="","",_xlfn.XLOOKUP(G9,生徒一覧!A:A,生徒一覧!B:B,""))}
F10: {=IF(G10="","",_xlfn.XLOOKUP(G10,生徒一覧!A:A,生徒一覧!C:C,""))} | H10: {=IF(G10="","",_xlfn.XLOOKUP(G10,生徒一覧!A:A,生徒一覧!B:B,""))}
F11: {=IF(G11="","",_xlfn.XLOOKUP(G11,生徒一覧!A:A,生徒一覧!C:C,""))} | H11: {=IF(G11="","",_xlfn.XLOOKUP(G11,生徒一覧!A:A,生徒一覧!B:B,""))}
F12: {=IF(G12="","",_xlfn.XLOOKUP(G12,生徒一覧!A:A,生徒一覧!C:C,""))} | H12: {=IF(G12="","",_xlfn.XLOOKUP(G12,生徒一覧!A:A,生徒一覧!B:B,""))}
F13: {=IF(G13="","",_xlfn.XLOOKUP(G13,生徒一覧!A:A,生徒一覧!C:C,""))} | H13: {=IF(G13="","",_xlfn.XLOOKUP(G13,生徒一覧!A:A,生徒一覧!B:B,""))}
F14: {=IF(G14="","",_xlfn.XLOOKUP(G14,生徒一覧!A:A,生徒一覧!C:C,""))} | H14: {=IF(G14="","",_xlfn.XLOOKUP(G14,生徒一覧!A:A,生徒一覧!B:B,""))}
F15: {=IF(G15="","",_xlfn.XLOOKUP(G15,生徒一覧!A:A,生徒一覧!C:C,""))} | H15: {=IF(G15="","",_xlfn.XLOOKUP(G15,生徒一覧!A:A,生徒一覧!B:B,""))}
F16: {=IF(G16="","",_xlfn.XLOOKUP(G16,生徒一覧!A:A,生徒一覧!C:C,""))} | H16: {=IF(G16="","",_xlfn.XLOOKUP(G16,生徒一覧!A:A,生徒一覧!B:B,""))}
F17: {=IF(G17="","",_xlfn.XLOOKUP(G17,生徒一覧!A:A,生徒一覧!C:C,""))} | H17: {=IF(G17="","",_xlfn.XLOOKUP(G17,生徒一覧!A:A,生徒一覧!B:B,""))}
F18: {=IF(G18="","",_xlfn.XLOOKUP(G18,生徒一覧!A:A,生徒一覧!C:C,""))} | H18: {=IF(G18="","",_xlfn.XLOOKUP(G18,生徒一覧!A:A,生徒一覧!B:B,""))}
... F1000: {=IF(G1000="","",_xlfn.XLOOKUP(G1000,生徒一覧!A:A,生徒一覧!C:C,""))} | H1000: {=IF(G1000="","",_xlfn.XLOOKUP(G1000,生徒一覧!A:A,生徒一覧!B:B,""))}

Sheet 生徒一覧
A1: 生徒名（漢字） | B1: 生徒名（カナ） | C1: 所属クラス
A2: 木下久美 | B2: きのしたくみ | C2: C
A3: 鈴木太郎 | B3: すずきたろう | C3: A
A4: 山田花子 | B4: やまだはなこ | C4: B

Sheet 音源情報
A1: 使用CD・音源名
A2: 白鳥の湖
A3: 眠れる森の美女
A4: 去年の発表会

Sheet 使い方説明
A1: 【データの事前準備・入力手順】
A3: 1. 生徒情報の入力
A4: ①「生徒一覧」シートのA〜C列に、生徒名（漢字・カナ）・所属クラスを入力します。
A5: ※同一人物が複数の演目を踊る場合は、踊る曲の数だけ「プログラム演目表」に新しい行を作ってください。
A7: 2. プログラム情報の入力
A8: ②「プログラム演目表」シートを開き、G列（生徒名）のプルダウンから生徒を選択します。
A9: （※クラス名とカナは自動で反映されます）
A10: ③ D列・E列（レッスン曜日・時間）、I列（作品名）を入力します。
A11: ④ A〜C列（部・演目番号・枝番）は、決定しだい入力してください。
A13: 3. 音源情報の入力
A14: ⑤「音源情報」シートのA列に、使用するCDや音源名を一覧で入力します。
A15: ⑥「プログラム演目表」に戻り、J列（使用CD・音源名）のプルダウンから音源を選択します。
... A66: 🌐 舞Pace公式サイトはこちら
